BEGIN:VCALENDAR
VERSION:2.0
PRODID:SchoolNow
CALSCALE:GREGORIAN
BEGIN:VEVENT
UID:7b4d969c-af5d-11f0-86b8-0a58a9feac02
DTSTAMP:20260421T211106Z
SUMMARY:Boys Varsity Baseball @ Alexandria
LOCATION:Alexandria School
URL;VALUE=URI:https://www.1000islandsschools.org/departments/athletics/cale
 ndar/8742635/boys-varsity-baseball-alexandria
DTSTART:20260428T203000Z
DTEND:20260428T213000Z
END:VEVENT
END:VCALENDAR
