BEGIN:VCALENDAR
VERSION:2.0
PRODID:SchoolNow
CALSCALE:GREGORIAN
BEGIN:VEVENT
UID:7b4d987c-af5d-11f0-884f-0a58a9feac02
DTSTAMP:20260421T211106Z
SUMMARY:Boys Varsity Baseball @ Sandy Creek
LOCATION:Sandy Creek MS/HS
URL;VALUE=URI:https://www.1000islandsschools.org/departments/athletics/cale
 ndar/8742637/boys-varsity-baseball-sandy-creek
DTSTART:20260418T170000Z
DTEND:20260418T180000Z
END:VEVENT
END:VCALENDAR
