BEGIN:VCALENDAR
VERSION:2.0
PRODID:SchoolNow
CALSCALE:GREGORIAN
BEGIN:VEVENT
UID:7b4d9958-af5d-11f0-9200-0a58a9feac02
DTSTAMP:20260421T211106Z
SUMMARY:Girls Varsity Softball v. South Lewis
LOCATION:Thousand Islands High School Softball Field
URL;VALUE=URI:https://www.1000islandsschools.org/departments/athletics/cale
 ndar/8742638/girls-varsity-softball-v-south-lewis
DTSTART:20260424T210000Z
DTEND:20260424T220000Z
END:VEVENT
END:VCALENDAR
