BEGIN:VCALENDAR
VERSION:2.0
PRODID:SchoolNow
CALSCALE:GREGORIAN
BEGIN:VEVENT
UID:7b4d9b24-af5d-11f0-a50e-0a58a9feac02
DTSTAMP:20260421T211106Z
SUMMARY:Girls Varsity Softball @ LaFargeville
LOCATION:Lafargeville School
URL;VALUE=URI:https://www.1000islandsschools.org/departments/athletics/cale
 ndar/8742640/girls-varsity-softball-lafargeville
DTSTART:20260429T203000Z
DTEND:20260429T213000Z
END:VEVENT
END:VCALENDAR
