BEGIN:VCALENDAR
VERSION:2.0
PRODID:SchoolNow
CALSCALE:GREGORIAN
BEGIN:VEVENT
UID:7b4d9c00-af5d-11f0-a066-0a58a9feac02
DTSTAMP:20260421T211106Z
SUMMARY:Girls Varsity Softball v. Belleville Henderson
LOCATION:Thousand Islands High School Softball Field
URL;VALUE=URI:https://www.1000islandsschools.org/departments/athletics/cale
 ndar/8742641/girls-varsity-softball-v-belleville-henderson
DTSTART:20260511T203000Z
DTEND:20260511T213000Z
END:VEVENT
END:VCALENDAR
