BEGIN:VCALENDAR
VERSION:2.0
PRODID:SchoolNow
CALSCALE:GREGORIAN
BEGIN:VEVENT
UID:7b4d9ce6-af5d-11f0-a62f-0a58a9feac02
DTSTAMP:20260421T211106Z
SUMMARY:Girls Varsity Softball @ South Lewis
LOCATION:South Lewis Softball Field
URL;VALUE=URI:https://www.1000islandsschools.org/departments/athletics/cale
 ndar/8742642/girls-varsity-softball-south-lewis
DTSTART:20260513T210000Z
DTEND:20260513T220000Z
END:VEVENT
END:VCALENDAR
