BEGIN:VCALENDAR
VERSION:2.0
PRODID:SchoolNow
CALSCALE:GREGORIAN
BEGIN:VEVENT
UID:7b4d9ebc-af5d-11f0-a7c1-0a58a9feac02
DTSTAMP:20260421T211106Z
SUMMARY:Girls Junior Varsity Softball @ South Lewis
LOCATION:South Lewis Softball Field
URL;VALUE=URI:https://www.1000islandsschools.org/departments/athletics/cale
 ndar/8742644/girls-junior-varsity-softball-south-lewis
DTSTART:20260430T210000Z
DTEND:20260430T220000Z
END:VEVENT
END:VCALENDAR
