BEGIN:VCALENDAR
VERSION:2.0
PRODID:SchoolNow
CALSCALE:GREGORIAN
BEGIN:VEVENT
UID:7b4d9f98-af5d-11f0-a26f-0a58a9feac02
DTSTAMP:20260421T211106Z
SUMMARY:Girls Junior Varsity Softball v. South Lewis
LOCATION:Thousand Islands High School Softball Field
URL;VALUE=URI:https://www.1000islandsschools.org/departments/athletics/cale
 ndar/8742645/girls-junior-varsity-softball-v-south-lewis
DTSTART:20260521T210000Z
DTEND:20260521T220000Z
END:VEVENT
END:VCALENDAR
