BEGIN:VCALENDAR
VERSION:2.0
PRODID:SchoolNow
CALSCALE:GREGORIAN
BEGIN:VEVENT
UID:7b4da074-af5d-11f0-9df3-0a58a9feac02
DTSTAMP:20260421T211106Z
SUMMARY:Girls Junior Varsity Softball @ LaFargeville
LOCATION:Lafargeville School
URL;VALUE=URI:https://www.1000islandsschools.org/departments/athletics/cale
 ndar/8742646/girls-junior-varsity-softball-lafargeville
DTSTART:20260515T203000Z
DTEND:20260515T213000Z
END:VEVENT
END:VCALENDAR
