BEGIN:VCALENDAR
VERSION:2.0
PRODID:SchoolNow
CALSCALE:GREGORIAN
BEGIN:VEVENT
UID:7b4da15a-af5d-11f0-8235-0a58a9feac02
DTSTAMP:20260421T211106Z
SUMMARY:Girls Junior Varsity Softball v. Alexandria
LOCATION:Thousand Islands High School Softball Field
URL;VALUE=URI:https://www.1000islandsschools.org/departments/athletics/cale
 ndar/8742647/girls-junior-varsity-softball-v-alexandria
DTSTART:20260421T203000Z
DTEND:20260421T213000Z
END:VEVENT
END:VCALENDAR
