BEGIN:VCALENDAR
VERSION:2.0
PRODID:SchoolNow
CALSCALE:GREGORIAN
BEGIN:VEVENT
UID:7b4da236-af5d-11f0-8668-0a58a9feac02
DTSTAMP:20260421T211106Z
SUMMARY:Girls Junior Varsity Softball @ Lyme
LOCATION:Lyme School
URL;VALUE=URI:https://www.1000islandsschools.org/departments/athletics/cale
 ndar/8742648/girls-junior-varsity-softball-lyme
DTSTART:20260422T203000Z
DTEND:20260422T213000Z
END:VEVENT
END:VCALENDAR
