BEGIN:VCALENDAR
VERSION:2.0
PRODID:SchoolNow
CALSCALE:GREGORIAN
BEGIN:VEVENT
UID:7b4da31c-af5d-11f0-a1b0-0a58a9feac02
DTSTAMP:20260421T211106Z
SUMMARY:Girls Junior Varsity Softball v. LaFargeville
LOCATION:Thousand Islands High School Softball Field
URL;VALUE=URI:https://www.1000islandsschools.org/departments/athletics/cale
 ndar/8742649/girls-junior-varsity-softball-v-lafargeville
DTSTART:20260506T203000Z
DTEND:20260506T213000Z
END:VEVENT
END:VCALENDAR
