BEGIN:VCALENDAR
VERSION:2.0
PRODID:SchoolNow
CALSCALE:GREGORIAN
BEGIN:VEVENT
UID:7b4da402-af5d-11f0-a5e9-0a58a9feac02
DTSTAMP:20260421T211106Z
SUMMARY:Girls Junior Varsity Softball @ Alexandria
LOCATION:Alexandria School
URL;VALUE=URI:https://www.1000islandsschools.org/departments/athletics/cale
 ndar/8742650/girls-junior-varsity-softball-alexandria
DTSTART:20260508T203000Z
DTEND:20260508T223000Z
END:VEVENT
END:VCALENDAR
