BEGIN:VCALENDAR
VERSION:2.0
PRODID:SchoolNow
CALSCALE:GREGORIAN
BEGIN:VEVENT
UID:7b4da4de-af5d-11f0-a669-0a58a9feac02
DTSTAMP:20260421T211106Z
SUMMARY:Girls Junior Varsity Softball v. Lyme
LOCATION:Thousand Islands High School Softball Field
URL;VALUE=URI:https://www.1000islandsschools.org/departments/athletics/cale
 ndar/8742651/girls-junior-varsity-softball-v-lyme
DTSTART:20260513T210000Z
DTEND:20260513T220000Z
END:VEVENT
END:VCALENDAR
