BEGIN:VCALENDAR
VERSION:2.0
PRODID:SchoolNow
CALSCALE:GREGORIAN
BEGIN:VEVENT
UID:53864214-b4f1-11f0-b440-0e0291a17353
DTSTAMP:20260421T211106Z
SUMMARY:Girls Varsity Basketball v. Hammond
LOCATION:Thousand Islands High School Gym
URL;VALUE=URI:https://www.1000islandsschools.org/departments/athletics/cale
 ndar/8759622/girls-varsity-basketball-v-hammond
DTSTART:20251222T230000Z
DTEND:20251223T000000Z
END:VEVENT
END:VCALENDAR
