BEGIN:VCALENDAR
VERSION:2.0
PRODID:SchoolNow
CALSCALE:GREGORIAN
BEGIN:VEVENT
UID:07251748-b9b9-11f0-8194-0a58a9feac02
DTSTAMP:20260421T211106Z
SUMMARY:POSTPONED: Girls (Islanders) Varsity Ice Hockey @ Skaneateles
LOCATION:Skaneateles Community Center
URL;VALUE=URI:https://www.1000islandsschools.org/departments/athletics/cale
 ndar/8777126/postponed-girls-islanders-varsity-ice-hockey-skaneateles
DTSTART:20260129T220000Z
DTEND:20260129T230000Z
END:VEVENT
END:VCALENDAR
