BEGIN:VCALENDAR
VERSION:2.0
PRODID:SchoolNow
CALSCALE:GREGORIAN
BEGIN:VEVENT
UID:07251ab8-b9b9-11f0-bd8d-0a58a9feac02
DTSTAMP:20260421T211106Z
SUMMARY:Girls Junior Varsity Basketball v. Sackets Harbor
LOCATION:Thousand Islands High School Gym
URL;VALUE=URI:https://www.1000islandsschools.org/departments/athletics/cale
 ndar/8777127/girls-junior-varsity-basketball-v-sackets-harbor
DTSTART:20260210T220000Z
DTEND:20260210T230000Z
END:VEVENT
END:VCALENDAR
