BEGIN:VCALENDAR
VERSION:2.0
PRODID:SchoolNow
CALSCALE:GREGORIAN
BEGIN:VEVENT
UID:cb002cfe-be80-11f0-b144-02033c48bce1
DTSTAMP:20260421T211106Z
SUMMARY:Boys (Islanders) Varsity Ice Hockey @ Canton
LOCATION:Williams HS
URL;VALUE=URI:https://www.1000islandsschools.org/departments/athletics/cale
 ndar/8788236/boys-islanders-varsity-ice-hockey-canton
DTSTART:20251223T230000Z
DTEND:20251224T000000Z
END:VEVENT
END:VCALENDAR
