BEGIN:VCALENDAR
VERSION:2.0
PRODID:SchoolNow
CALSCALE:GREGORIAN
BEGIN:VEVENT
UID:cb002ec0-be80-11f0-8677-02033c48bce1
DTSTAMP:20260421T211106Z
SUMMARY:Boys (Islanders) Varsity Ice Hockey Immaculate Heart Central\, Wate
 rtown @ Pulaski (Ontario Bay)
LOCATION:Alexandria Bay - Ice Arena
URL;VALUE=URI:https://www.1000islandsschools.org/departments/athletics/cale
 ndar/8788237/boys-islanders-varsity-ice-hockey-immaculate-heart-central-wa
 tertown-pulaski-ontario-bay
DTSTART:20251226T220000Z
DTEND:20251226T230000Z
END:VEVENT
END:VCALENDAR
