BEGIN:VCALENDAR
VERSION:2.0
PRODID:SchoolNow
CALSCALE:GREGORIAN
BEGIN:VEVENT
UID:cb002fc4-be80-11f0-a88e-02033c48bce1
DTSTAMP:20260421T211106Z
SUMMARY:Boys (Islanders) Varsity Ice Hockey v. Fulton
LOCATION:Alexandria Bay Municipal Ice Arena
URL;VALUE=URI:https://www.1000islandsschools.org/departments/athletics/cale
 ndar/8788238/boys-islanders-varsity-ice-hockey-v-fulton
DTSTART:20251227T000000Z
DTEND:20251227T010000Z
END:VEVENT
END:VCALENDAR
