BEGIN:VCALENDAR
VERSION:2.0
PRODID:SchoolNow
CALSCALE:GREGORIAN
BEGIN:VEVENT
UID:cb0030c8-be80-11f0-b129-02033c48bce1
DTSTAMP:20260421T211106Z
SUMMARY:Boys (Islanders) Varsity Ice Hockey Fulton @ Immaculate Heart Centr
 al\, Watertown
LOCATION:Alexandria Bay Municipal Ice Arena
URL;VALUE=URI:https://www.1000islandsschools.org/departments/athletics/cale
 ndar/8788239/boys-islanders-varsity-ice-hockey-fulton-immaculate-heart-cen
 tral-watertown
DTSTART:20251227T160000Z
DTEND:20251227T170000Z
END:VEVENT
END:VCALENDAR
