BEGIN:VCALENDAR
VERSION:2.0
PRODID:SchoolNow
CALSCALE:GREGORIAN
BEGIN:VEVENT
UID:cb0031c2-be80-11f0-a266-02033c48bce1
DTSTAMP:20260421T211106Z
SUMMARY:Boys (Islanders) Varsity Ice Hockey v. Pulaski (Ontario Bay)
LOCATION:Alexandria Bay Municipal Ice Arena
URL;VALUE=URI:https://www.1000islandsschools.org/departments/athletics/cale
 ndar/8788240/boys-islanders-varsity-ice-hockey-v-pulaski-ontario-bay
DTSTART:20251227T180000Z
DTEND:20251227T190000Z
END:VEVENT
END:VCALENDAR
