BEGIN:VCALENDAR
VERSION:2.0
PRODID:SchoolNow
CALSCALE:GREGORIAN
BEGIN:VEVENT
UID:cb0032b2-be80-11f0-b43f-02033c48bce1
DTSTAMP:20260421T211106Z
SUMMARY:Boys (Islanders) Varsity Ice Hockey v. Potsdam
LOCATION:Alexandria Bay Municipal Ice Arena
URL;VALUE=URI:https://www.1000islandsschools.org/departments/athletics/cale
 ndar/8788241/boys-islanders-varsity-ice-hockey-v-potsdam
DTSTART:20260131T204500Z
DTEND:20260131T214500Z
END:VEVENT
END:VCALENDAR
