BEGIN:VCALENDAR
VERSION:2.0
PRODID:SchoolNow
CALSCALE:GREGORIAN
BEGIN:VEVENT
UID:cb0033ac-be80-11f0-aac9-02033c48bce1
DTSTAMP:20260421T211106Z
SUMMARY:Boys (Islanders) Varsity Ice Hockey Sweet Home @ Fayetteville-Manli
 us
LOCATION:Cerow Rec Park - Ice Arena
URL;VALUE=URI:https://www.1000islandsschools.org/departments/athletics/cale
 ndar/8788242/boys-islanders-varsity-ice-hockey-sweet-home-fayetteville-man
 lius
DTSTART:20260116T220000Z
DTEND:20260116T230000Z
END:VEVENT
END:VCALENDAR
