BEGIN:VCALENDAR
VERSION:2.0
PRODID:SchoolNow
CALSCALE:GREGORIAN
BEGIN:VEVENT
UID:cb00349c-be80-11f0-909f-02033c48bce1
DTSTAMP:20260421T211106Z
SUMMARY:Boys (Islanders) Varsity Ice Hockey v. Ogdensburg
LOCATION:Cerow Rec Park - Ice Arena
URL;VALUE=URI:https://www.1000islandsschools.org/departments/athletics/cale
 ndar/8788243/boys-islanders-varsity-ice-hockey-v-ogdensburg
DTSTART:20260117T000000Z
DTEND:20260117T010000Z
END:VEVENT
END:VCALENDAR
