BEGIN:VCALENDAR
VERSION:2.0
PRODID:SchoolNow
CALSCALE:GREGORIAN
BEGIN:VEVENT
UID:cb003596-be80-11f0-a9ed-02033c48bce1
DTSTAMP:20260421T211106Z
SUMMARY:Boys (Islanders) Varsity Ice Hockey TBD @ TBD
LOCATION:Cerow Rec Park - Ice Arena
URL;VALUE=URI:https://www.1000islandsschools.org/departments/athletics/cale
 ndar/8788244/boys-islanders-varsity-ice-hockey-tbd-tbd
DTSTART:20260117T160000Z
DTEND:20260117T170000Z
END:VEVENT
END:VCALENDAR
