BEGIN:VCALENDAR
VERSION:2.0
PRODID:SchoolNow
CALSCALE:GREGORIAN
BEGIN:VEVENT
UID:cb00367c-be80-11f0-bd56-02033c48bce1
DTSTAMP:20260421T211106Z
SUMMARY:Boys (Islanders) Varsity Ice Hockey TBD @ TBD
LOCATION:Cerow Rec Park - Ice Arena
URL;VALUE=URI:https://www.1000islandsschools.org/departments/athletics/cale
 ndar/8788245/boys-islanders-varsity-ice-hockey-tbd-tbd
DTSTART:20260117T180000Z
DTEND:20260117T190000Z
END:VEVENT
END:VCALENDAR
