BEGIN:VCALENDAR
VERSION:2.0
PRODID:SchoolNow
CALSCALE:GREGORIAN
BEGIN:VEVENT
UID:cb00376c-be80-11f0-a852-02033c48bce1
DTSTAMP:20260421T211106Z
SUMMARY:Boys (Islanders) Varsity Ice Hockey @ Tupper Lake
LOCATION:Tupper Lake High School
URL;VALUE=URI:https://www.1000islandsschools.org/departments/athletics/cale
 ndar/8788246/boys-islanders-varsity-ice-hockey-tupper-lake
DTSTART:20260209T223000Z
DTEND:20260209T233000Z
END:VEVENT
END:VCALENDAR
