BEGIN:VCALENDAR
VERSION:2.0
PRODID:SchoolNow
CALSCALE:GREGORIAN
BEGIN:VEVENT
UID:cb003852-be80-11f0-abf7-02033c48bce1
DTSTAMP:20260421T211106Z
SUMMARY:Boys (Islanders) Varsity Ice Hockey @ Salmon River
LOCATION:Salmon River Jr. Sr. High School
URL;VALUE=URI:https://www.1000islandsschools.org/departments/athletics/cale
 ndar/8788247/boys-islanders-varsity-ice-hockey-salmon-river
DTSTART:20260203T000000Z
DTEND:20260203T010000Z
END:VEVENT
END:VCALENDAR
