BEGIN:VCALENDAR
VERSION:2.0
PRODID:SchoolNow
CALSCALE:GREGORIAN
BEGIN:VEVENT
UID:cb003a3c-be80-11f0-aaec-02033c48bce1
DTSTAMP:20260421T211106Z
SUMMARY:Boys (Islanders) Varsity Ice Hockey @ Malone
URL;VALUE=URI:https://www.1000islandsschools.org/departments/athletics/cale
 ndar/8788249/boys-islanders-varsity-ice-hockey-malone
DTSTART:20260130T220000Z
DTEND:20260130T230000Z
END:VEVENT
END:VCALENDAR
