BEGIN:VCALENDAR
VERSION:2.0
PRODID:SchoolNow
CALSCALE:GREGORIAN
BEGIN:VEVENT
UID:cb003b2c-be80-11f0-bf55-02033c48bce1
DTSTAMP:20260421T211106Z
SUMMARY:Boys (Islanders) Varsity Ice Hockey v. Beekmantown
LOCATION:Salmon River Jr. Sr. High School
URL;VALUE=URI:https://www.1000islandsschools.org/departments/athletics/cale
 ndar/8788250/boys-islanders-varsity-ice-hockey-v-beekmantown
DTSTART:20260214T002500Z
DTEND:20260214T012500Z
END:VEVENT
END:VCALENDAR
