BEGIN:VCALENDAR
VERSION:2.0
PRODID:SchoolNow
CALSCALE:GREGORIAN
BEGIN:VEVENT
UID:cb003c1c-be80-11f0-89b4-02033c48bce1
DTSTAMP:20260421T211106Z
SUMMARY:Boys (Islanders) Varsity Ice Hockey v. Clarence
LOCATION:Salmon River Jr. Sr. High School
URL;VALUE=URI:https://www.1000islandsschools.org/departments/athletics/cale
 ndar/8788251/boys-islanders-varsity-ice-hockey-v-clarence
DTSTART:20260214T153000Z
DTEND:20260214T163000Z
END:VEVENT
END:VCALENDAR
