BEGIN:VCALENDAR
VERSION:2.0
PRODID:SchoolNow
CALSCALE:GREGORIAN
BEGIN:VEVENT
UID:cb003d0c-be80-11f0-9d9c-02033c48bce1
DTSTAMP:20260421T211106Z
SUMMARY:Boys (Islanders) Varsity Ice Hockey v. Tupper Lake
LOCATION:Cerow Rec Park - Ice Arena
URL;VALUE=URI:https://www.1000islandsschools.org/departments/athletics/cale
 ndar/8788252/boys-islanders-varsity-ice-hockey-v-tupper-lake
DTSTART:20260216T180000Z
DTEND:20260216T190000Z
END:VEVENT
END:VCALENDAR
