BEGIN:VCALENDAR
VERSION:2.0
PRODID:SchoolNow
CALSCALE:GREGORIAN
BEGIN:VEVENT
UID:cb003ed8-be80-11f0-9049-02033c48bce1
DTSTAMP:20260421T211106Z
SUMMARY:Boys (Islanders) Varsity Ice Hockey @ Massena
LOCATION:Massena HS
URL;VALUE=URI:https://www.1000islandsschools.org/departments/athletics/cale
 ndar/8788254/boys-islanders-varsity-ice-hockey-massena
DTSTART:20260204T230000Z
DTEND:20260205T000000Z
END:VEVENT
END:VCALENDAR
