BEGIN:VCALENDAR
VERSION:2.0
PRODID:SchoolNow
CALSCALE:GREGORIAN
BEGIN:VEVENT
UID:cb003fc8-be80-11f0-92cb-02033c48bce1
DTSTAMP:20260421T211106Z
SUMMARY:Boys (Islanders) Varsity Ice Hockey v. St. Lawrence Central
LOCATION:Cerow Rec Park - Ice Arena
URL;VALUE=URI:https://www.1000islandsschools.org/departments/athletics/cale
 ndar/8788255/boys-islanders-varsity-ice-hockey-v-st-lawrence-central
DTSTART:20260109T230000Z
DTEND:20260110T000000Z
END:VEVENT
END:VCALENDAR
