BEGIN:VCALENDAR
VERSION:2.0
PRODID:SchoolNow
CALSCALE:GREGORIAN
BEGIN:VEVENT
UID:cb0040ae-be80-11f0-af8b-02033c48bce1
DTSTAMP:20260421T211106Z
SUMMARY:Boys (Islanders) Varsity Ice Hockey @ St. Lawrence Central
LOCATION:Saint Lawrence HS
URL;VALUE=URI:https://www.1000islandsschools.org/departments/athletics/cale
 ndar/8788256/boys-islanders-varsity-ice-hockey-st-lawrence-central
DTSTART:20260207T180000Z
DTEND:20260207T190000Z
END:VEVENT
END:VCALENDAR
