BEGIN:VCALENDAR
VERSION:2.0
PRODID:SchoolNow
CALSCALE:GREGORIAN
BEGIN:VEVENT
UID:78e9c74e-c4ad-11f0-9581-0a58a9feac02
DTSTAMP:20260421T211106Z
SUMMARY:Boys Varsity Lacrosse @ Holland Patent
LOCATION:HS Turf Field
URL;VALUE=URI:https://www.1000islandsschools.org/departments/athletics/cale
 ndar/8802233/boys-varsity-lacrosse-holland-patent
DTSTART:20260509T150000Z
DTEND:20260509T170000Z
END:VEVENT
END:VCALENDAR
