BEGIN:VCALENDAR
VERSION:2.0
PRODID:SchoolNow
CALSCALE:GREGORIAN
BEGIN:VEVENT
UID:78e9ccbc-c4ad-11f0-9c53-0a58a9feac02
DTSTAMP:20260421T211106Z
SUMMARY:Boys Varsity Lacrosse @ Utica Proctor
LOCATION:PHS Stadium (Turf Field/Track)
URL;VALUE=URI:https://www.1000islandsschools.org/departments/athletics/cale
 ndar/8802234/boys-varsity-lacrosse-utica-proctor
DTSTART:20260418T150000Z
DTEND:20260418T223000Z
END:VEVENT
END:VCALENDAR
