BEGIN:VCALENDAR
VERSION:2.0
PRODID:SchoolNow
CALSCALE:GREGORIAN
BEGIN:VEVENT
UID:6db5f6be-c579-11f0-98e9-0a58a9feac02
DTSTAMP:20260421T211106Z
SUMMARY:Boys Varsity Lacrosse v. Holland Patent
LOCATION:Thousand Islands Turf Field
URL;VALUE=URI:https://www.1000islandsschools.org/departments/athletics/cale
 ndar/8803906/boys-varsity-lacrosse-v-holland-patent
DTSTART:20260424T223000Z
DTEND:20260424T233000Z
END:VEVENT
END:VCALENDAR
