BEGIN:VCALENDAR
VERSION:2.0
PRODID:SchoolNow
CALSCALE:GREGORIAN
BEGIN:VEVENT
UID:632beef6-c678-11f0-9b04-0e3e608066dd
DTSTAMP:20260421T211106Z
SUMMARY:Girls Varsity Softball @ Sandy Creek
LOCATION:Sandy Creek MS/HS
URL;VALUE=URI:https://www.1000islandsschools.org/departments/athletics/cale
 ndar/8806562/girls-varsity-softball-sandy-creek
DTSTART:20260425T150000Z
DTEND:20260425T160000Z
END:VEVENT
END:VCALENDAR
