BEGIN:VCALENDAR
VERSION:2.0
PRODID:SchoolNow
CALSCALE:GREGORIAN
BEGIN:VEVENT
UID:def8cd1a-d0a0-11f0-b29f-025fa68f2d13
DTSTAMP:20260421T211106Z
SUMMARY:Girls Varsity Softball @ Altmar-Parish-Williamstown (APW Rebels)
LOCATION:A-P-W Elementary School
URL;VALUE=URI:https://www.1000islandsschools.org/departments/athletics/cale
 ndar/8817009/girls-varsity-softball-altmar-parish-williamstown-apw-rebels
DTSTART:20260421T203000Z
DTEND:20260421T213000Z
END:VEVENT
END:VCALENDAR
