BEGIN:VCALENDAR
VERSION:2.0
PRODID:SchoolNow
CALSCALE:GREGORIAN
BEGIN:VEVENT
UID:def8d044-d0a0-11f0-8adf-025fa68f2d13
DTSTAMP:20260421T211106Z
SUMMARY:Girls Varsity Softball v. General Brown
LOCATION:Thousand Islands High School Softball Field
URL;VALUE=URI:https://www.1000islandsschools.org/departments/athletics/cale
 ndar/8817010/girls-varsity-softball-v-general-brown
DTSTART:20260501T203000Z
DTEND:20260501T213000Z
END:VEVENT
END:VCALENDAR
