BEGIN:VCALENDAR
VERSION:2.0
PRODID:SchoolNow
CALSCALE:GREGORIAN
BEGIN:VEVENT
UID:def8d184-d0a0-11f0-b6fe-025fa68f2d13
DTSTAMP:20260421T211106Z
SUMMARY:Boys Varsity Lacrosse v. Vernon-Verona-Sherrill
LOCATION:Thousand Islands Turf Field
URL;VALUE=URI:https://www.1000islandsschools.org/departments/athletics/cale
 ndar/8817011/boys-varsity-lacrosse-v-vernon-verona-sherrill
DTSTART:20260425T150000Z
DTEND:20260425T160000Z
END:VEVENT
END:VCALENDAR
