BEGIN:VCALENDAR
VERSION:2.0
PRODID:SchoolNow
CALSCALE:GREGORIAN
BEGIN:VEVENT
UID:da28fca0-d0d3-11f0-ae52-0a58a9feac02
DTSTAMP:20260421T211106Z
SUMMARY:Girls (Islanders) Varsity Ice Hockey v. Saranac Lake
LOCATION:Alexandria Bay Municipal Ice Arena
URL;VALUE=URI:https://www.1000islandsschools.org/departments/athletics/cale
 ndar/8817175/girls-islanders-varsity-ice-hockey-v-saranac-lake
DTSTART:20251231T150000Z
DTEND:20251231T160000Z
END:VEVENT
END:VCALENDAR
