BEGIN:VCALENDAR
VERSION:2.0
PRODID:SchoolNow
CALSCALE:GREGORIAN
BEGIN:VEVENT
UID:da28fdae-d0d3-11f0-8d51-0a58a9feac02
DTSTAMP:20260421T211106Z
SUMMARY:Girls (Islanders) Varsity Ice Hockey v. Salmon River
LOCATION:Gordon D Cerow Rec Park
URL;VALUE=URI:https://www.1000islandsschools.org/departments/athletics/cale
 ndar/8817176/girls-islanders-varsity-ice-hockey-v-salmon-river
DTSTART:20260123T230000Z
DTEND:20260124T000000Z
END:VEVENT
END:VCALENDAR
