BEGIN:VCALENDAR
VERSION:2.0
PRODID:SchoolNow
CALSCALE:GREGORIAN
BEGIN:VEVENT
UID:da28fea8-d0d3-11f0-a9ad-0a58a9feac02
DTSTAMP:20260421T211106Z
SUMMARY:Girls (Islanders) Varsity Ice Hockey @ Potsdam
LOCATION:Potsdam HS
URL;VALUE=URI:https://www.1000islandsschools.org/departments/athletics/cale
 ndar/8817177/girls-islanders-varsity-ice-hockey-potsdam
DTSTART:20260114T233000Z
DTEND:20260115T003000Z
END:VEVENT
END:VCALENDAR
