BEGIN:VCALENDAR
VERSION:2.0
PRODID:SchoolNow
CALSCALE:GREGORIAN
BEGIN:VEVENT
UID:da28ffa2-d0d3-11f0-b46a-0a58a9feac02
DTSTAMP:20260421T211106Z
SUMMARY:Girls (Islanders) Varsity Ice Hockey @ Massena
URL;VALUE=URI:https://www.1000islandsschools.org/departments/athletics/cale
 ndar/8817178/girls-islanders-varsity-ice-hockey-massena
DTSTART:20260116T220000Z
DTEND:20260116T230000Z
END:VEVENT
END:VCALENDAR
