BEGIN:VCALENDAR
VERSION:2.0
PRODID:SchoolNow
CALSCALE:GREGORIAN
BEGIN:VEVENT
UID:d83eb888-d139-11f0-ab59-0a58a9feac02
DTSTAMP:20260421T211106Z
SUMMARY:Girls (Islanders) Varsity Ice Hockey v. Ithaca
LOCATION:Alexandria Bay Municipal Ice Arena
URL;VALUE=URI:https://www.1000islandsschools.org/departments/athletics/cale
 ndar/8817486/girls-islanders-varsity-ice-hockey-v-ithaca
DTSTART:20251229T180000Z
DTEND:20251229T190000Z
END:VEVENT
END:VCALENDAR
