BEGIN:VCALENDAR
VERSION:2.0
PRODID:SchoolNow
CALSCALE:GREGORIAN
BEGIN:VEVENT
UID:97991e0c-d69a-11f0-8bbc-0a58a9feac02
DTSTAMP:20260421T211106Z
SUMMARY:Girls (Islanders) Varsity Ice Hockey @ Oswego
LOCATION:Anthony Crisafulli  Rink (The Fort)
URL;VALUE=URI:https://www.1000islandsschools.org/departments/athletics/cale
 ndar/8821766/girls-islanders-varsity-ice-hockey-oswego
DTSTART:20251222T180000Z
DTEND:20251222T190000Z
END:VEVENT
END:VCALENDAR
