BEGIN:VCALENDAR
VERSION:2.0
PRODID:SchoolNow
CALSCALE:GREGORIAN
BEGIN:VEVENT
UID:8b9558fe-d6cd-11f0-b2c5-0a58a9feac02
DTSTAMP:20260421T211106Z
SUMMARY:Girls Varsity Softball v. South Jefferson
LOCATION:Thousand Islands High School Softball Field
URL;VALUE=URI:https://www.1000islandsschools.org/departments/athletics/cale
 ndar/8822458/girls-varsity-softball-v-south-jefferson
DTSTART:20260508T203000Z
DTEND:20260508T213000Z
END:VEVENT
END:VCALENDAR
